BEGIN:VCALENDAR
VERSION:2.0
PRODID:-//Crous Bordeaux-Aquitaine - ECPv6.15.20//NONSGML v1.0//EN
CALSCALE:GREGORIAN
METHOD:PUBLISH
X-WR-CALNAME:Crous Bordeaux-Aquitaine
X-ORIGINAL-URL:https://www.crous-bordeaux.fr
X-WR-CALDESC:Évènements pour Crous Bordeaux-Aquitaine
REFRESH-INTERVAL;VALUE=DURATION:PT1H
X-Robots-Tag:noindex
X-PUBLISHED-TTL:PT1H
BEGIN:VTIMEZONE
TZID:Europe/Paris
BEGIN:DAYLIGHT
TZOFFSETFROM:+0100
TZOFFSETTO:+0200
TZNAME:CEST
DTSTART:20250330T010000
END:DAYLIGHT
BEGIN:STANDARD
TZOFFSETFROM:+0200
TZOFFSETTO:+0100
TZNAME:CET
DTSTART:20251026T010000
END:STANDARD
BEGIN:DAYLIGHT
TZOFFSETFROM:+0100
TZOFFSETTO:+0200
TZNAME:CEST
DTSTART:20260329T010000
END:DAYLIGHT
BEGIN:STANDARD
TZOFFSETFROM:+0200
TZOFFSETTO:+0100
TZNAME:CET
DTSTART:20261025T010000
END:STANDARD
BEGIN:DAYLIGHT
TZOFFSETFROM:+0100
TZOFFSETTO:+0200
TZNAME:CEST
DTSTART:20270328T010000
END:DAYLIGHT
BEGIN:STANDARD
TZOFFSETFROM:+0200
TZOFFSETTO:+0100
TZNAME:CET
DTSTART:20271031T010000
END:STANDARD
END:VTIMEZONE
BEGIN:VEVENT
DTSTART;TZID=Europe/Paris:20260318T190000
DTEND;TZID=Europe/Paris:20260318T230000
DTSTAMP:20260420T141801
CREATED:20251215T162330Z
LAST-MODIFIED:20260225T163155Z
UID:8804-1773860400-1773874800@www.crous-bordeaux.fr
SUMMARY:Crous en scène
DESCRIPTION:[vc_row][vc_column][vc_column_text css= » »] \n\nLe Crous en Scène\, la scène musicale du Crous qui revient cette année !\n\nPour cette soirée qui aura lieu le 18 mars\, tout le monde peut participer\, alors n’hésitez plus et inscrivez-vous sur le formulaire en cliquant ici \nSi vous désirez participer mais que vous n’avez pas le matériel pour monter sur scène\, n’ayez crainte\, nous avons pensé à vous ! Vous pouvez indiquer dans le formulaire juste au-dessus ce dont vous avez besoin. \nOn a hâte de tous.tes vous voir et d’entendre ce que vous avez à proposer 😉 Rendez-vous de 19h à 23h au Café Culturel de l'(S)pace’ Campus\, pour une soirée sous le signe de la musique et de la bienveillance ! \n  \nPour plus d’informations\, n’hésitez pas à nous écrire à animation.culture@crous-bordeaux.fr[/vc_column_text][/vc_column][/vc_row]
URL:https://www.crous-bordeaux.fr/evenement/crous-en-scene-6/
LOCATION:Café Culturel – (S)pace’ Campus\, 18 avenue de Bardanac\, Pessac\, 33600\, France
CATEGORIES:Culture
ATTACH;FMTTYPE=image/jpeg:https://www.crous-bordeaux.fr/wp-content/uploads/sites/5/2025/10/BANNIERE-EVE-SC-SITE-CROUS-crous-en-scene.jpg
END:VEVENT
END:VCALENDAR